BEGIN:VCALENDAR
VERSION:2.0
PRODID:-//MWWSLSC - ECPv6.0.0.1//NONSGML v1.0//EN
CALSCALE:GREGORIAN
METHOD:PUBLISH
X-WR-CALNAME:MWWSLSC
X-ORIGINAL-URL:https://mwwslsc.org.au/wp
X-WR-CALDESC:Events for MWWSLSC
REFRESH-INTERVAL;VALUE=DURATION:PT1H
X-Robots-Tag:noindex
X-PUBLISHED-TTL:PT1H
BEGIN:VTIMEZONE
TZID:Australia/Sydney
BEGIN:STANDARD
TZOFFSETFROM:+1100
TZOFFSETTO:+1000
TZNAME:AEST
DTSTART:20250405T160000
END:STANDARD
BEGIN:DAYLIGHT
TZOFFSETFROM:+1000
TZOFFSETTO:+1100
TZNAME:AEDT
DTSTART:20251004T160000
END:DAYLIGHT
BEGIN:STANDARD
TZOFFSETFROM:+1100
TZOFFSETTO:+1000
TZNAME:AEST
DTSTART:20260404T160000
END:STANDARD
BEGIN:DAYLIGHT
TZOFFSETFROM:+1000
TZOFFSETTO:+1100
TZNAME:AEDT
DTSTART:20261003T160000
END:DAYLIGHT
END:VTIMEZONE
BEGIN:VEVENT
DTSTART;TZID=Australia/Sydney:20260325T080000
DTEND;TZID=Australia/Sydney:20260325T170000
DTSTAMP:20260426T115035
CREATED:20250825T131507Z
LAST-MODIFIED:20250825T131507Z
UID:2176-1774425600-1774458000@mwwslsc.org.au
SUMMARY:MWWSLSC Monthly Meeting
DESCRIPTION:
URL:https://mwwslsc.org.au/wp/event/mwwslsc-monthly-meeting-8/
LOCATION:The Loft Workspace\, Level 1\, 137 Prince Street\, Grafton\, NSW\, 2460\, Australia
CATEGORIES:Committee
ORGANIZER;CN="Executive%20Team":MAILTO:executive@mwwslsc.org.au
END:VEVENT
BEGIN:VEVENT
DTSTART;TZID=Australia/Sydney:20260225T173000
DTEND;TZID=Australia/Sydney:20260225T200000
DTSTAMP:20260426T115035
CREATED:20250825T131410Z
LAST-MODIFIED:20250825T131415Z
UID:2172-1772040600-1772049600@mwwslsc.org.au
SUMMARY:MWWSLSC Monthly Meeting
DESCRIPTION:
URL:https://mwwslsc.org.au/wp/event/mwwslsc-monthly-meeting-7/
LOCATION:The Loft Workspace\, Level 1\, 137 Prince Street\, Grafton\, NSW\, 2460\, Australia
CATEGORIES:Committee
ORGANIZER;CN="Executive%20Team":MAILTO:executive@mwwslsc.org.au
END:VEVENT
BEGIN:VEVENT
DTSTART;TZID=Australia/Sydney:20260128T173000
DTEND;TZID=Australia/Sydney:20260128T200000
DTSTAMP:20260426T115035
CREATED:20250825T131333Z
LAST-MODIFIED:20250825T131435Z
UID:2169-1769621400-1769630400@mwwslsc.org.au
SUMMARY:MWWSLSC Monthly Meeting
DESCRIPTION:
URL:https://mwwslsc.org.au/wp/event/mwwslsc-monthly-meeting-6/
LOCATION:The Loft Workspace\, Level 1\, 137 Prince Street\, Grafton\, NSW\, 2460\, Australia
CATEGORIES:Committee
ORGANIZER;CN="Executive%20Team":MAILTO:executive@mwwslsc.org.au
END:VEVENT
BEGIN:VEVENT
DTSTART;TZID=Australia/Sydney:20251217T173000
DTEND;TZID=Australia/Sydney:20251217T200000
DTSTAMP:20260426T115035
CREATED:20250825T131137Z
LAST-MODIFIED:20250825T131150Z
UID:2163-1765992600-1766001600@mwwslsc.org.au
SUMMARY:MWWSLSC Monthly Meeting
DESCRIPTION:
URL:https://mwwslsc.org.au/wp/event/mwwslsc-monthly-meeting-5/
LOCATION:The Loft Workspace\, Level 1\, 137 Prince Street\, Grafton\, NSW\, 2460\, Australia
CATEGORIES:Committee
ORGANIZER;CN="Executive%20Team":MAILTO:executive@mwwslsc.org.au
END:VEVENT
BEGIN:VEVENT
DTSTART;TZID=Australia/Sydney:20251126T173000
DTEND;TZID=Australia/Sydney:20251126T200000
DTSTAMP:20260426T115035
CREATED:20250825T131008Z
LAST-MODIFIED:20250825T131208Z
UID:2160-1764178200-1764187200@mwwslsc.org.au
SUMMARY:MWWSLSC Monthly Meeting
DESCRIPTION:
URL:https://mwwslsc.org.au/wp/event/mwwslsc-monthly-meeting-4/
LOCATION:The Loft Workspace\, Level 1\, 137 Prince Street\, Grafton\, NSW\, 2460\, Australia
CATEGORIES:Committee
ORGANIZER;CN="Executive%20Team":MAILTO:executive@mwwslsc.org.au
END:VEVENT
BEGIN:VEVENT
DTSTART;TZID=Australia/Sydney:20251102T093000
DTEND;TZID=Australia/Sydney:20251102T120000
DTSTAMP:20260426T115035
CREATED:20250924T140032Z
LAST-MODIFIED:20251011T072711Z
UID:2232-1762075800-1762084800@mwwslsc.org.au
SUMMARY:Nippers Come and Try 02NOV25
DESCRIPTION:🌊 Come & Try Nippers Day!\n\nSunday 2nd November | Minnie Water Beach | From 9:30am \nWe’re kicking off the new Nippers Season with a fun-filled Come & Try Day at the beautiful Minnie Water Beach — and you’re invited! ☀️ \n🏄‍♀️ What’s Happening\nGet ready for a morning packed with fun\, games\, and beach activities for kids aged 5 to 15 years.It’s the perfect chance to experience what Nippers is all about — learning surf safety\, building confidence in the water\, and making new friends! 💛❤️ \nCome down\, get sandy\, have fun\, and see why Minnie Water-Wooli SLSC is the perfect place for kids to learn\, play\, and grow! 🌴 \n👨‍👩‍👧 Who Can Join?\nEveryone’s welcome — whether you’re new to Nippers or a returning family\, come down and be part of the action!Parents can also find out how to get involved — from helping on the beach to joining our friendly volunteer team. \n💬 Want to Know More?\nFor more information\, contact:📞 Natasha Hillery – Junior Activity Chair
URL:https://mwwslsc.org.au/wp/event/nippers-come-and-try-2nov/
LOCATION:Minnie Water Beach\, Nip Welsh Park\, Minnie Water\, NSW\, 2462\, Australia
CATEGORIES:Open Day
ORGANIZER;CN="Natasha%20Hillery%20-%20Junior%20Activity%20Chair":MAILTO:jac@mwwslsc.org.au
END:VEVENT
BEGIN:VEVENT
DTSTART;TZID=Australia/Sydney:20251029T173000
DTEND;TZID=Australia/Sydney:20251029T200000
DTSTAMP:20260426T115035
CREATED:20250825T130929Z
LAST-MODIFIED:20250825T130929Z
UID:2157-1761759000-1761768000@mwwslsc.org.au
SUMMARY:MWWSLSC Monthly Meeting
DESCRIPTION:
URL:https://mwwslsc.org.au/wp/event/mwwslsc-monthly-meeting-3/
LOCATION:The Loft Workspace\, Level 1\, 137 Prince Street\, Grafton\, NSW\, 2460\, Australia
CATEGORIES:Committee
END:VEVENT
BEGIN:VEVENT
DTSTART;TZID=Australia/Sydney:20251012T093000
DTEND;TZID=Australia/Sydney:20251012T120000
DTSTAMP:20260426T115035
CREATED:20250924T140047Z
LAST-MODIFIED:20251011T072806Z
UID:2220-1760261400-1760270400@mwwslsc.org.au
SUMMARY:Nippers Come and Try 12 Oct
DESCRIPTION:🌊 Come & Try Nippers Day!\n \nSunday 12th October | Minnie Water Beach | From 8:30am \nWe’re kicking off the new Nippers Season with a fun-filled Come & Try Day at the beautiful Minnie Water Beach — and you’re invited! ☀️ \n🏄‍♀️ What’s Happening\nGet ready for a morning packed with fun\, games\, and beach activities for kids aged 5 to 15 years.It’s the perfect chance to experience what Nippers is all about — learning surf safety\, building confidence in the water\, and making new friends! 💛❤️ \n🎶 Special Guest: FM103.1 Loving Life\nWe’re excited to have FM103.1 Loving Life broadcasting live from the beach — adding even more fun and energy to the day! 🎤🏖️ \n👨‍👩‍👧 Who Can Join?\nEveryone’s welcome — whether you’re new to Nippers or a returning family\, come down and be part of the action!Parents can also find out how to get involved — from helping on the beach to joining our friendly volunteer team. \n💬 Want to Know More?\nFor more information\, contact:📞 Natasha Hillery – Junior Activity Chair \nCome down\, get sandy\, have fun\, and see why Minnie Water-Wooli SLSC is the perfect place for kids to learn\, play\, and grow! 🌴 \n  \n  \n 
URL:https://mwwslsc.org.au/wp/event/nippers-come-and-try-12oct/
LOCATION:Minnie Water Beach\, Nip Welsh Park\, Minnie Water\, NSW\, 2462\, Australia
CATEGORIES:Activity Day,Open Day
ORGANIZER;CN="Natasha%20Hillery%20-%20Junior%20Activity%20Chair":MAILTO:jac@mwwslsc.org.au
END:VEVENT
BEGIN:VEVENT
DTSTART;TZID=Australia/Sydney:20250924T173000
DTEND;TZID=Australia/Sydney:20250924T200000
DTSTAMP:20260426T115035
CREATED:20250825T130851Z
LAST-MODIFIED:20250825T131238Z
UID:2154-1758735000-1758744000@mwwslsc.org.au
SUMMARY:MWWSLSC Monthly Meeting
DESCRIPTION:
URL:https://mwwslsc.org.au/wp/event/mwwslsc-monthly-meeting-2/
LOCATION:The Loft Workspace\, Level 1\, 137 Prince Street\, Grafton\, NSW\, 2460\, Australia
CATEGORIES:Committee
ORGANIZER;CN="Executive%20Team":MAILTO:executive@mwwslsc.org.au
END:VEVENT
BEGIN:VEVENT
DTSTART;TZID=Australia/Sydney:20250827T173000
DTEND;TZID=Australia/Sydney:20250827T200000
DTSTAMP:20260426T115035
CREATED:20250825T130342Z
LAST-MODIFIED:20250825T131258Z
UID:2131-1756315800-1756324800@mwwslsc.org.au
SUMMARY:MWWSLSC Monthly Meeting
DESCRIPTION:
URL:https://mwwslsc.org.au/wp/event/mwwslsc-monthly-meeting/
LOCATION:The Loft Workspace\, Level 1\, 137 Prince Street\, Grafton\, NSW\, 2460\, Australia
CATEGORIES:Committee
ORGANIZER;CN="Executive%20Team":MAILTO:executive@mwwslsc.org.au
END:VEVENT
END:VCALENDAR